Workbook

Sheet CLAIM FORM
A9: Suite 1204, 275 Slater Street, Ottawa, Ontario K1P 5H9 | G9: MANDATORY FIELD CHAMP OBLIGATOIRE
A12: C.E.I.U. CLAIM FORM / RÉCLAMATION DU S.E.I.C.
A14: NAME / NOM : | E14: BUDGET:
A15: ADDRESS / ADRESSE : | E15: NVP / VPN | G15: FALSE
E16: REGIONAL / REGIONAL | G16: FALSE
E17: NATIONAL / NATIONAL | G17: FALSE
E18: OTHER / AUTRE: | G18: FALSE
A19: PURPOSE OF TRAVEL / OBJET DU DÉPLACEMENT :
A20: DETAILS OF EVENT/ DÉTAILS DE L'ÉVÉNEMENT
A21: BEGINING TIME OF EVENT / HEURE DU DÉBUT DE L'ÉVÉNEMENT:
A22: END TIME OF EVENT / HEURE DE FIN DE L'ÉVÈNEMENT:
A23: DATE OF EVENT / DATE DE L'ÉVÈNEMENT: | D23: MONTH OF TRAVEL / MOIS DE VOYAGE: | F23: OCTOBER / OCTOBRE
A25: 1. TRANSPORTATION / TRANSPORT
D26: PROVINCE | E26: AMOUNT / MONTANT | F26: RATE / TAUX | G26: TOTAL / TOTALE
B27: AIR-RAIL-BUS / AVION-TRAIN-AUTOBUS | G27: =+E27 -> 0
B28: TAXIS | G28: =+E28 -> 0
B29: KILOMETERS / KILOMÉTRAGE (SEE RATES) | D29: ONTARIO | F29: {=_xlfn.XLOOKUP($F$23,RATES!$B$2:$M$2,_xlfn.XLOOKUP('CLAIM FORM'!D29,RATES!$A$3:$A$15,RATES!B3:M15))} -> 0.66 | G29: =SUM(E29*F29) -> 0
B30: PARKING / STATIONNEMENT | G30: =+E30 -> 0
B31: OTHER TRANSPORTION (Specify) / AUTRE TRANSPORT (Spécifier) | G31: =+E31 -> 0 | H31: =SUM(G27:G31) -> 0
E34: # OF DAYS/NIGHTS # DE JOURS / NUITS | F34: RATE / TAUX | G34: TOTAL / TOTALE
A35: 2. ACCOMMODATION / HÉBERGEMENT
B36: NO OF NIGHTS / NO DE SOIRS : | G36: =SUM(E36*F36) -> 0 | H36: =+G36 -> 0
A38: 3. PER DIEM / INDEMNITÉ QUOTIDIENNE (WORK DAYS / JOURS DE TRAVAIL)
B39: NO OF DAYS / NO DE JOURS : | F39: 0 | G39: =SUM(E39*F39) -> 0 | H39: =+G39 -> 0
A41: 4. PER DIEM / INDEMNITÉ QUOTIDIENNE (REST DAYS / JOURS DE REPOS)
B42: NO OF DAYS / NO DE JOURS : | F42: 0 | G42: =SUM(E42*F42) -> 0 | H42: =+G42 -> 0
A44: 3. MEALS / REPAS (TRAVEL DAYS / JOURS DE VOYAGE)
B45: BREAKFAST / PETIT DÉJEUNER | F45: {=_xlfn.XLOOKUP($F$23,RATES!$B$17:$M$17,_xlfn.XLOOKUP('CLAIM FORM'!B45,RATES!$A$18:$A$20,RATES!$B$18:$M$20))} -> 29.95 | G45: =SUM(E45*F45) -> 0
B46: LUNCH / DÉJEUNER | F46: {=_xlfn.XLOOKUP($F$23,RATES!$B$17:$M$17,_xlfn.XLOOKUP('CLAIM FORM'!B46,RATES!$A$18:$A$20,RATES!$B$18:$M$20))} -> 30.55 | G46: =SUM(E46*F46) -> 0
B47: DINNER / DÎNER | F47: {=_xlfn.XLOOKUP($F$23,RATES!$B$17:$M$17,_xlfn.XLOOKUP('CLAIM FORM'!B47,RATES!$A$18:$A$20,RATES!$B$18:$M$20))} -> 62.7 | G47: =SUM(E47*F47) -> 0
B48: INCIDENTALS / FAUX FRAIS | F48: =_xlfn.XLOOKUP($F$23,RATES!$B$17:$M$17,RATES!$B$21:$M$21) -> 25 | G48: =SUM(E48*F48) -> 0 | H48: =SUM(G45:G48) -> 0
A49: 4. LOSS OF WAGES / PERTE DE SALAIRE (TAXABLE / IMPOSABLE)
C50: CLASS / CLASSE | D50: LEVEL / NIVEAU | E50: NO OF HOURS / NO D'HEURES : | F50: RATE / TAUX
B51: HOURS / HEURES : | G51: =SUM(E51*F51) -> 0 | H51: =+G51 -> 0
A53: 5. OTHER EXPENSES / AUTRES DÉPENSES
H56: =SUM(G54:G56) -> 0
A58: 6. FAMILY CARE / SOINS FAMILIALES
B59: (Attach completed Form / Accrocher formulaire complet) | H59: =+G59 -> 0
G61: TOTAL | H61: =SUM(H31:H59) -> 0
B63: LESS ADVANCE / MOINS AVANCE | C63: (Cheque No. / Chèque no)
B65: LESS DEDUCTIONS / MOINS LES DÉDUCTIONS
B67: NET CLAIM / RÉCLAMATION TOTALE | H67: =+H61-H63 -> 0
B70: ACCT/COMPTE :
B72: REQUESTED BY / DEMANDÉ PAR:
B74: APPROVED / APPROUVÉ:
A77: REVISED OCTOBER, 2026 / RÉVISÉ EN OCTOBRE 2026

Sheet RATES
A1: MILEAGE RATES / TAUX DE MILLAGE | B1: 2026
A2: PROVINCE | B2: JANUARY / JANVIER | C2: FEBRUARY / FEVRIER | D2: MARCH / MARS | E2: APRIL / AVRIL | F2: MAY / MAI | G2: JUNE / JUIN | H2: JULY / JUILLET | I2: AUGUST / AOUT | J2: SEPTEMBER / SEPTEMBRE | K2: OCTOBER / OCTOBRE | L2: NOVEMBER / NOVEMBRE | M2: DECEMBER / DECEMBRE
A3: ALBERTA | B3: 0.565 | C3: 0.565 | D3: 0.565 | E3: 0.56 | F3: 0.56 | G3: 0.56 | H3: 0.59 | I3: 0.59 | J3: 0.59 | K3: 0.595 | L3: 0.595 | M3: 0.595
A4: BRITISH COLUMBIA / COLOMBIE BRITANIQUE | B4: 0.6 | C4: 0.6 | D4: 0.6 | E4: 0.595 | F4: 0.595 | G4: 0.595 | H4: 0.63 | I4: 0.63 | J4: 0.63 | K4: 0.63 | L4: 0.63 | M4: 0.63
A5: MANITOBA | B5: 0.565 | C5: 0.565 | D5: 0.565 | E5: 0.555 | F5: 0.555 | G5: 0.555 | H5: 0.585 | I5: 0.585 | J5: 0.585 | K5: 0.59 | L5: 0.59 | M5: 0.59
A6: NB / N.B. | B6: 0.61 | C6: 0.61 | D6: 0.61 | E6: 0.605 | F6: 0.605 | G6: 0.605 | H6: 0.63 | I6: 0.63 | J6: 0.63 | K6: 0.635 | L6: 0.635 | M6: 0.635
A7: NL / T-N-L | B7: 0.62 | C7: 0.62 | D7: 0.62 | E7: 0.615 | F7: 0.615 | G7: 0.615 | H7: 0.645 | I7: 0.645 | J7: 0.645 | K7: 0.655 | L7: 0.655 | M7: 0.655
A8: NS / N-É | B8: 0.61 | C8: 0.61 | D8: 0.61 | E8: 0.6 | F8: 0.6 | G8: 0.6 | H8: 0.63 | I8: 0.63 | J8: 0.63 | K8: 0.635 | L8: 0.635 | M8: 0.635
A9: NT / T.N-O | B9: 0.7 | C9: 0.7 | D9: 0.7 | E9: 0.695 | F9: 0.695 | G9: 0.695 | H9: 0.725 | I9: 0.725 | J9: 0.725 | K9: 0.745 | L9: 0.745 | M9: 0.745
A10: NUNAVUT | B10: 0.705 | C10: 0.705 | D10: 0.705 | E10: 0.7 | F10: 0.7 | G10: 0.7 | H10: 0.7 | I10: 0.7 | J10: 0.7 | K10: 0.7 | L10: 0.7 | M10: 0.7
A11: ONTARIO | B11: 0.63 | C11: 0.63 | D11: 0.63 | E11: 0.625 | F11: 0.625 | G11: 0.625 | H11: 0.655 | I11: 0.655 | J11: 0.655 | K11: 0.66 | L11: 0.66 | M11: 0.66
A12: PEI / Î-P-É | B12: 0.6 | C12: 0.6 | D12: 0.6 | E12: 0.595 | F12: 0.595 | G12: 0.595 | H12: 0.62 | I12: 0.62 | J12: 0.62 | K12: 0.63 | L12: 0.63 | M12: 0.63
A13: QUEBEC / QUÉBEC | B13: 0.625 | C13: 0.625 | D13: 0.625 | E13: 0.615 | F13: 0.615 | G13: 0.615 | H13: 0.645 | I13: 0.645 | J13: 0.645 | K13: 0.645 | L13: 0.645 | M13: 0.645
A14: SASKATCHEWAN | B14: 0.56 | C14: 0.56 | D14: 0.56 | E14: 0.55 | F14: 0.55 | G14: 0.55 | H14: 0.58 | I14: 0.58 | J14: 0.58 | K14: 0.585 | L14: 0.585 | M14: 0.585
A15: YUKON | B15: 0.7 | C15: 0.7 | D15: 0.7 | E15: 0.69 | F15: 0.69 | G15: 0.69 | H15: 0.73 | I15: 0.73 | J15: 0.73 | K15: 0.74 | L15: 0.74 | M15: 0.74
A17: MEAL RATES / TAUX DE REPAS | B17: JANUARY / JANVIER | C17: FEBRUARY / FEVRIER | D17: MARCH / MARS | E17: APRIL / AVRIL | F17: MAY / MAI | G17: JUNE / JUIN | H17: JULY / JUILLET | I17: AUGUST / AOUT | J17: SEPTEMBER / SEPTEMBRE | K17: OCTOBER / OCTOBRE | L17: NOVEMBER / NOVEMBRE | M17: DECEMBER / DECEMBRE
A18: BREAKFAST / PETIT DÉJEUNER | B18: 29.05 | C18: 29.05 | D18: 29.05 | E18: 29.5 | F18: 29.5 | G18: 29.5 | H18: 29.5 | I18: 29.5 | J18: 29.5 | K18: 29.95 | L18: 29.95 | M18: 29.95
A19: LUNCH / DÉJEUNER | B19: 29.6 | C19: 29.6 | D19: 29.6 | E19: 30.05 | F19: 30.05 | G19: 30.05 | H19: 30.05 | I19: 30.05 | J19: 30.05 | K19: 30.55 | L19: 30.55 | M19: 30.55
A20: DINNER / DÎNER | B20: 60.75 | C20: 60.75 | D20: 60.75 | E20: 61.7 | F20: 61.7 | G20: 61.7 | H20: 61.7 | I20: 61.7 | J20: 61.7 | K20: 62.7 | L20: 62.7 | M20: 62.7
A21: INCIDENTALS / FAUX FRAIS | B21: 17.3 | C21: 17.3 | D21: 17.3 | E21: 25 | F21: 25 | G21: 25 | H21: 25 | I21: 25 | J21: 25 | K21: 25 | L21: 25 | M21: 25
A22: Private Accomodation Allowance / Indemnité pour hébergement privé: | B22: JANUARY / JANVIER | C22: FEBRUARY / FEVRIER | D22: MARCH / MARS | E22: APRIL / AVRIL | F22: MAY / MAI | G22: JUNE / JUIN | H22: JULY / JUILLET | I22: AUGUST / AOUT | J22: SEPTEMBER / SEPTEMBRE | K22: OCTOBER / OCTOBRE | L22: NOVEMBER / NOVEMBRE | M22: DECEMBER / DECEMBRE
A23: ACCOMMODATION / HÉBERGEMENT | B23: 50 | C23: 50 | D23: 50 | E23: 50 | F23: 50 | G23: 50 | H23: 50 | I23: 50 | J23: 50 | K23: 50 | L23: 50 | M23: 50
