BEGIN:VCALENDAR
VERSION:2.0
PRODID:-//Canada Employment and Immigration Union - ECPv6.15.20//NONSGML v1.0//EN
CALSCALE:GREGORIAN
METHOD:PUBLISH
X-WR-CALNAME:Canada Employment and Immigration Union
X-ORIGINAL-URL:https://ceiu-seic.ca
X-WR-CALDESC:Events for Canada Employment and Immigration Union
REFRESH-INTERVAL;VALUE=DURATION:PT1H
X-Robots-Tag:noindex
X-PUBLISHED-TTL:PT1H
BEGIN:VTIMEZONE
TZID:America/Toronto
BEGIN:DAYLIGHT
TZOFFSETFROM:-0500
TZOFFSETTO:-0400
TZNAME:EDT
DTSTART:20260308T070000
END:DAYLIGHT
BEGIN:STANDARD
TZOFFSETFROM:-0400
TZOFFSETTO:-0500
TZNAME:EST
DTSTART:20261101T060000
END:STANDARD
BEGIN:DAYLIGHT
TZOFFSETFROM:-0500
TZOFFSETTO:-0400
TZNAME:EDT
DTSTART:20270314T070000
END:DAYLIGHT
BEGIN:STANDARD
TZOFFSETFROM:-0400
TZOFFSETTO:-0500
TZNAME:EST
DTSTART:20271107T060000
END:STANDARD
BEGIN:DAYLIGHT
TZOFFSETFROM:-0500
TZOFFSETTO:-0400
TZNAME:EDT
DTSTART:20280312T070000
END:DAYLIGHT
BEGIN:STANDARD
TZOFFSETFROM:-0400
TZOFFSETTO:-0500
TZNAME:EST
DTSTART:20281105T060000
END:STANDARD
BEGIN:DAYLIGHT
TZOFFSETFROM:-0500
TZOFFSETTO:-0400
TZNAME:EDT
DTSTART:20290311T070000
END:DAYLIGHT
BEGIN:STANDARD
TZOFFSETFROM:-0400
TZOFFSETTO:-0500
TZNAME:EST
DTSTART:20291104T060000
END:STANDARD
BEGIN:DAYLIGHT
TZOFFSETFROM:-0500
TZOFFSETTO:-0400
TZNAME:EDT
DTSTART:20300310T070000
END:DAYLIGHT
BEGIN:STANDARD
TZOFFSETFROM:-0400
TZOFFSETTO:-0500
TZNAME:EST
DTSTART:20301103T060000
END:STANDARD
BEGIN:DAYLIGHT
TZOFFSETFROM:-0500
TZOFFSETTO:-0400
TZNAME:EDT
DTSTART:20310309T070000
END:DAYLIGHT
BEGIN:STANDARD
TZOFFSETFROM:-0400
TZOFFSETTO:-0500
TZNAME:EST
DTSTART:20311102T060000
END:STANDARD
END:VTIMEZONE
BEGIN:VEVENT
DTSTART;TZID=America/Toronto:20270410T000000
DTEND;TZID=America/Toronto:20270410T235959
DTSTAMP:20260422T062859
CREATED:20260305T225708Z
LAST-MODIFIED:20260305T225710Z
UID:10000219-1807315200-1807401599@ceiu-seic.ca
SUMMARY:Equal Pay Day
DESCRIPTION:
URL:https://ceiu-seic.ca/event/equal-pay-day/2027-04-10/
CATEGORIES:Significant Date
ATTACH;FMTTYPE=image/png:https://ceiu-seic.ca/wp-content/uploads/2025/12/women-1.png
END:VEVENT
BEGIN:VEVENT
DTSTART;TZID=America/Toronto:20280410T000000
DTEND;TZID=America/Toronto:20280410T235959
DTSTAMP:20260422T062859
CREATED:20260305T225708Z
LAST-MODIFIED:20260305T225710Z
UID:10000220-1838937600-1839023999@ceiu-seic.ca
SUMMARY:Equal Pay Day
DESCRIPTION:
URL:https://ceiu-seic.ca/event/equal-pay-day/2028-04-10/
CATEGORIES:Significant Date
ATTACH;FMTTYPE=image/png:https://ceiu-seic.ca/wp-content/uploads/2025/12/women-1.png
END:VEVENT
BEGIN:VEVENT
DTSTART;TZID=America/Toronto:20290410T000000
DTEND;TZID=America/Toronto:20290410T235959
DTSTAMP:20260422T062859
CREATED:20260305T225708Z
LAST-MODIFIED:20260305T225710Z
UID:10000221-1870473600-1870559999@ceiu-seic.ca
SUMMARY:Equal Pay Day
DESCRIPTION:
URL:https://ceiu-seic.ca/event/equal-pay-day/2029-04-10/
CATEGORIES:Significant Date
ATTACH;FMTTYPE=image/png:https://ceiu-seic.ca/wp-content/uploads/2025/12/women-1.png
END:VEVENT
BEGIN:VEVENT
DTSTART;TZID=America/Toronto:20300410T000000
DTEND;TZID=America/Toronto:20300410T235959
DTSTAMP:20260422T062859
CREATED:20260305T225708Z
LAST-MODIFIED:20260305T225710Z
UID:10000222-1902009600-1902095999@ceiu-seic.ca
SUMMARY:Equal Pay Day
DESCRIPTION:
URL:https://ceiu-seic.ca/event/equal-pay-day/2030-04-10/
CATEGORIES:Significant Date
ATTACH;FMTTYPE=image/png:https://ceiu-seic.ca/wp-content/uploads/2025/12/women-1.png
END:VEVENT
END:VCALENDAR