BEGIN:VCALENDAR
VERSION:2.0
PRODID:-//Canada Employment and Immigration Union - ECPv6.15.20//NONSGML v1.0//EN
CALSCALE:GREGORIAN
METHOD:PUBLISH
X-ORIGINAL-URL:https://ceiu-seic.ca
X-WR-CALDESC:Events for Canada Employment and Immigration Union
REFRESH-INTERVAL;VALUE=DURATION:PT1H
X-Robots-Tag:noindex
X-PUBLISHED-TTL:PT1H
BEGIN:VTIMEZONE
TZID:America/Toronto
BEGIN:DAYLIGHT
TZOFFSETFROM:-0500
TZOFFSETTO:-0400
TZNAME:EDT
DTSTART:20280312T070000
END:DAYLIGHT
BEGIN:STANDARD
TZOFFSETFROM:-0400
TZOFFSETTO:-0500
TZNAME:EST
DTSTART:20281105T060000
END:STANDARD
BEGIN:DAYLIGHT
TZOFFSETFROM:-0500
TZOFFSETTO:-0400
TZNAME:EDT
DTSTART:20290311T070000
END:DAYLIGHT
BEGIN:STANDARD
TZOFFSETFROM:-0400
TZOFFSETTO:-0500
TZNAME:EST
DTSTART:20291104T060000
END:STANDARD
BEGIN:DAYLIGHT
TZOFFSETFROM:-0500
TZOFFSETTO:-0400
TZNAME:EDT
DTSTART:20300310T070000
END:DAYLIGHT
BEGIN:STANDARD
TZOFFSETFROM:-0400
TZOFFSETTO:-0500
TZNAME:EST
DTSTART:20301103T060000
END:STANDARD
END:VTIMEZONE
BEGIN:VEVENT
DTSTART;TZID=America/Toronto:20290501T000000
DTEND;TZID=America/Toronto:20290508T235959
DTSTAMP:20260425T194641
CREATED:20260209T163514Z
LAST-MODIFIED:20260303T140723Z
UID:10000090-1872288000-1872979199@ceiu-seic.ca
SUMMARY:Asian Heritage Month
DESCRIPTION:
URL:https://ceiu-seic.ca/event/asian-heritage-month/2029-05-01/
CATEGORIES:Significant Date
ATTACH;FMTTYPE=image/png:https://ceiu-seic.ca/wp-content/uploads/2026/02/hrrr-logo.png
END:VEVENT
BEGIN:VEVENT
DTSTART;TZID=America/Toronto:20290501T000000
DTEND;TZID=America/Toronto:20290508T235959
DTSTAMP:20260425T194641
CREATED:20260305T225907Z
LAST-MODIFIED:20260305T225909Z
UID:10000231-1872288000-1872979199@ceiu-seic.ca
SUMMARY:Sexual Violence Prevention Month
DESCRIPTION:
URL:https://ceiu-seic.ca/event/sexual-violence-prevention-month/2029-05-01/
CATEGORIES:Significant Date
ATTACH;FMTTYPE=image/png:https://ceiu-seic.ca/wp-content/uploads/2025/12/women-1.png
END:VEVENT
BEGIN:VEVENT
DTSTART;TZID=America/Toronto:20290505T000000
DTEND;TZID=America/Toronto:20290505T235959
DTSTAMP:20260425T194641
CREATED:20260209T163702Z
LAST-MODIFIED:20260303T140912Z
UID:10000102-1872633600-1872719999@ceiu-seic.ca
SUMMARY:Red Dress Day
DESCRIPTION:
URL:https://ceiu-seic.ca/event/red-dress-day/2029-05-05/
CATEGORIES:Significant Date
ATTACH;FMTTYPE=image/png:https://ceiu-seic.ca/wp-content/uploads/2026/02/hrrr-logo.png
END:VEVENT
BEGIN:VEVENT
DTSTART;TZID=America/Toronto:20290510T000000
DTEND;TZID=America/Toronto:20290510T235959
DTSTAMP:20260425T194641
CREATED:20260209T163827Z
LAST-MODIFIED:20260303T141022Z
UID:10000110-1873065600-1873151999@ceiu-seic.ca
SUMMARY:Bear Witness Day
DESCRIPTION:
URL:https://ceiu-seic.ca/event/bear-witness-day/2029-05-10/
CATEGORIES:Significant Date
ATTACH;FMTTYPE=image/png:https://ceiu-seic.ca/wp-content/uploads/2026/02/hrrr-logo.png
END:VEVENT
BEGIN:VEVENT
DTSTART;TZID=America/Toronto:20290517T000000
DTEND;TZID=America/Toronto:20290517T235959
DTSTAMP:20260425T194641
CREATED:20260209T163936Z
LAST-MODIFIED:20260303T141141Z
UID:10000122-1873670400-1873756799@ceiu-seic.ca
SUMMARY:International Day Against Homophobia\, Transphobia and Biphobia
DESCRIPTION:
URL:https://ceiu-seic.ca/event/international-day-against-homophobia-transphobia-and-biphobia/2029-05-17/
CATEGORIES:Significant Date
ATTACH;FMTTYPE=image/png:https://ceiu-seic.ca/wp-content/uploads/2026/02/hrrr-logo.png
END:VEVENT
BEGIN:VEVENT
DTSTART;TZID=America/Toronto:20290528T000000
DTEND;TZID=America/Toronto:20290603T235959
DTSTAMP:20260425T194641
CREATED:20260209T164108Z
LAST-MODIFIED:20260303T141252Z
UID:10000130-1874620800-1875225599@ceiu-seic.ca
SUMMARY:National Accessibility Awareness Week
DESCRIPTION:
URL:https://ceiu-seic.ca/event/national-accessibility-awareness-week/2029-05-28/
CATEGORIES:Significant Date
ATTACH;FMTTYPE=image/png:https://ceiu-seic.ca/wp-content/uploads/2026/02/hrrr-logo.png
END:VEVENT
END:VCALENDAR