BEGIN:VCALENDAR
VERSION:2.0
PRODID:-//Canada Employment and Immigration Union - ECPv6.15.20//NONSGML v1.0//EN
CALSCALE:GREGORIAN
METHOD:PUBLISH
X-WR-CALNAME:Canada Employment and Immigration Union
X-ORIGINAL-URL:https://ceiu-seic.ca
X-WR-CALDESC:Events for Canada Employment and Immigration Union
REFRESH-INTERVAL;VALUE=DURATION:PT1H
X-Robots-Tag:noindex
X-PUBLISHED-TTL:PT1H
BEGIN:VTIMEZONE
TZID:America/Toronto
BEGIN:DAYLIGHT
TZOFFSETFROM:-0500
TZOFFSETTO:-0400
TZNAME:EDT
DTSTART:20270314T070000
END:DAYLIGHT
BEGIN:STANDARD
TZOFFSETFROM:-0400
TZOFFSETTO:-0500
TZNAME:EST
DTSTART:20271107T060000
END:STANDARD
BEGIN:DAYLIGHT
TZOFFSETFROM:-0500
TZOFFSETTO:-0400
TZNAME:EDT
DTSTART:20280312T070000
END:DAYLIGHT
BEGIN:STANDARD
TZOFFSETFROM:-0400
TZOFFSETTO:-0500
TZNAME:EST
DTSTART:20281105T060000
END:STANDARD
BEGIN:DAYLIGHT
TZOFFSETFROM:-0500
TZOFFSETTO:-0400
TZNAME:EDT
DTSTART:20290311T070000
END:DAYLIGHT
BEGIN:STANDARD
TZOFFSETFROM:-0400
TZOFFSETTO:-0500
TZNAME:EST
DTSTART:20291104T060000
END:STANDARD
END:VTIMEZONE
BEGIN:VEVENT
DTSTART;TZID=America/Toronto:20281001T000000
DTEND;TZID=America/Toronto:20281008T235959
DTSTAMP:20260425T103755
CREATED:20260305T231324Z
LAST-MODIFIED:20260305T231325Z
UID:10000280-1853971200-1854662399@ceiu-seic.ca
SUMMARY:Women's History Month
DESCRIPTION:
URL:https://ceiu-seic.ca/event/womens-history-month/2028-10-01/
CATEGORIES:Significant Date
ATTACH;FMTTYPE=image/png:https://ceiu-seic.ca/wp-content/uploads/2025/12/women-1.png
END:VEVENT
BEGIN:VEVENT
DTSTART;TZID=America/Toronto:20281004T000000
DTEND;TZID=America/Toronto:20281004T235959
DTSTAMP:20260425T103755
CREATED:20260305T231608Z
LAST-MODIFIED:20260305T231610Z
UID:10000290-1854230400-1854316799@ceiu-seic.ca
SUMMARY:Sisters in Spirit Day
DESCRIPTION:
URL:https://ceiu-seic.ca/event/sisters-in-spirit-day/2028-10-04/
CATEGORIES:Significant Date
ATTACH;FMTTYPE=image/png:https://ceiu-seic.ca/wp-content/uploads/2025/12/women-1.png
END:VEVENT
BEGIN:VEVENT
DTSTART;TZID=America/Toronto:20281010T000000
DTEND;TZID=America/Toronto:20281010T235959
DTSTAMP:20260425T103755
CREATED:20260209T164553Z
LAST-MODIFIED:20260303T141549Z
UID:10000161-1854748800-1854835199@ceiu-seic.ca
SUMMARY:World Mental Health Day
DESCRIPTION:
URL:https://ceiu-seic.ca/event/world-mental-health-day/2028-10-10/
CATEGORIES:Significant Date
ATTACH;FMTTYPE=image/png:https://ceiu-seic.ca/wp-content/uploads/2026/02/hrrr-logo.png
END:VEVENT
BEGIN:VEVENT
DTSTART;TZID=America/Toronto:20281011T000000
DTEND;TZID=America/Toronto:20281011T235959
DTSTAMP:20260425T103755
CREATED:20260305T232033Z
LAST-MODIFIED:20260305T232036Z
UID:10000310-1854835200-1854921599@ceiu-seic.ca
SUMMARY:International Day of the Girl
DESCRIPTION:
URL:https://ceiu-seic.ca/event/international-day-of-the-girl/2028-10-11/
CATEGORIES:Significant Date
ATTACH;FMTTYPE=image/png:https://ceiu-seic.ca/wp-content/uploads/2025/12/women-1.png
END:VEVENT
BEGIN:VEVENT
DTSTART;TZID=America/Toronto:20281018T000000
DTEND;TZID=America/Toronto:20281018T235959
DTSTAMP:20260425T103755
CREATED:20260305T231124Z
LAST-MODIFIED:20260305T231126Z
UID:10000270-1855440000-1855526399@ceiu-seic.ca
SUMMARY:World Menopause Day
DESCRIPTION:
URL:https://ceiu-seic.ca/event/world-menopause-day/2028-10-18/
CATEGORIES:Significant Date
ATTACH;FMTTYPE=image/png:https://ceiu-seic.ca/wp-content/uploads/2025/12/women-1.png
END:VEVENT
BEGIN:VEVENT
DTSTART;TZID=America/Toronto:20281018T000000
DTEND;TZID=America/Toronto:20281018T235959
DTSTAMP:20260425T103755
CREATED:20260305T231843Z
LAST-MODIFIED:20260305T231844Z
UID:10000300-1855440000-1855526399@ceiu-seic.ca
SUMMARY:Persons Day
DESCRIPTION:
URL:https://ceiu-seic.ca/event/persons-day/2028-10-18/
CATEGORIES:Significant Date
ATTACH;FMTTYPE=image/png:https://ceiu-seic.ca/wp-content/uploads/2025/12/women-1.png
END:VEVENT
END:VCALENDAR