BEGIN:VCALENDAR
VERSION:2.0
PRODID:-//Canada Employment and Immigration Union - ECPv6.15.20//NONSGML v1.0//EN
CALSCALE:GREGORIAN
METHOD:PUBLISH
X-ORIGINAL-URL:https://ceiu-seic.ca
X-WR-CALDESC:Events for Canada Employment and Immigration Union
REFRESH-INTERVAL;VALUE=DURATION:PT1H
X-Robots-Tag:noindex
X-PUBLISHED-TTL:PT1H
BEGIN:VTIMEZONE
TZID:America/Toronto
BEGIN:DAYLIGHT
TZOFFSETFROM:-0500
TZOFFSETTO:-0400
TZNAME:EDT
DTSTART:20260308T070000
END:DAYLIGHT
BEGIN:STANDARD
TZOFFSETFROM:-0400
TZOFFSETTO:-0500
TZNAME:EST
DTSTART:20261101T060000
END:STANDARD
BEGIN:DAYLIGHT
TZOFFSETFROM:-0500
TZOFFSETTO:-0400
TZNAME:EDT
DTSTART:20270314T070000
END:DAYLIGHT
BEGIN:STANDARD
TZOFFSETFROM:-0400
TZOFFSETTO:-0500
TZNAME:EST
DTSTART:20271107T060000
END:STANDARD
BEGIN:DAYLIGHT
TZOFFSETFROM:-0500
TZOFFSETTO:-0400
TZNAME:EDT
DTSTART:20280312T070000
END:DAYLIGHT
BEGIN:STANDARD
TZOFFSETFROM:-0400
TZOFFSETTO:-0500
TZNAME:EST
DTSTART:20281105T060000
END:STANDARD
END:VTIMEZONE
BEGIN:VEVENT
DTSTART;TZID=America/Toronto:20271001T000000
DTEND;TZID=America/Toronto:20271008T235959
DTSTAMP:20260424T204853
CREATED:20260305T231324Z
LAST-MODIFIED:20260305T231325Z
UID:10000279-1822348800-1823039999@ceiu-seic.ca
SUMMARY:Women's History Month
DESCRIPTION:
URL:https://ceiu-seic.ca/event/womens-history-month/2027-10-01/
CATEGORIES:Significant Date
ATTACH;FMTTYPE=image/png:https://ceiu-seic.ca/wp-content/uploads/2025/12/women-1.png
END:VEVENT
BEGIN:VEVENT
DTSTART;TZID=America/Toronto:20271004T000000
DTEND;TZID=America/Toronto:20271004T235959
DTSTAMP:20260424T204853
CREATED:20260305T231608Z
LAST-MODIFIED:20260305T231610Z
UID:10000289-1822608000-1822694399@ceiu-seic.ca
SUMMARY:Sisters in Spirit Day
DESCRIPTION:
URL:https://ceiu-seic.ca/event/sisters-in-spirit-day/2027-10-04/
CATEGORIES:Significant Date
ATTACH;FMTTYPE=image/png:https://ceiu-seic.ca/wp-content/uploads/2025/12/women-1.png
END:VEVENT
BEGIN:VEVENT
DTSTART;TZID=America/Toronto:20271010T000000
DTEND;TZID=America/Toronto:20271010T235959
DTSTAMP:20260424T204853
CREATED:20260209T164553Z
LAST-MODIFIED:20260303T141549Z
UID:10000160-1823126400-1823212799@ceiu-seic.ca
SUMMARY:World Mental Health Day
DESCRIPTION:
URL:https://ceiu-seic.ca/event/world-mental-health-day/2027-10-10/
CATEGORIES:Significant Date
ATTACH;FMTTYPE=image/png:https://ceiu-seic.ca/wp-content/uploads/2026/02/hrrr-logo.png
END:VEVENT
BEGIN:VEVENT
DTSTART;TZID=America/Toronto:20271011T000000
DTEND;TZID=America/Toronto:20271011T235959
DTSTAMP:20260424T204853
CREATED:20260305T232033Z
LAST-MODIFIED:20260305T232036Z
UID:10000309-1823212800-1823299199@ceiu-seic.ca
SUMMARY:International Day of the Girl
DESCRIPTION:
URL:https://ceiu-seic.ca/event/international-day-of-the-girl/2027-10-11/
CATEGORIES:Significant Date
ATTACH;FMTTYPE=image/png:https://ceiu-seic.ca/wp-content/uploads/2025/12/women-1.png
END:VEVENT
BEGIN:VEVENT
DTSTART;TZID=America/Toronto:20271018T000000
DTEND;TZID=America/Toronto:20271018T235959
DTSTAMP:20260424T204853
CREATED:20260305T231124Z
LAST-MODIFIED:20260305T231126Z
UID:10000269-1823817600-1823903999@ceiu-seic.ca
SUMMARY:World Menopause Day
DESCRIPTION:
URL:https://ceiu-seic.ca/event/world-menopause-day/2027-10-18/
CATEGORIES:Significant Date
ATTACH;FMTTYPE=image/png:https://ceiu-seic.ca/wp-content/uploads/2025/12/women-1.png
END:VEVENT
BEGIN:VEVENT
DTSTART;TZID=America/Toronto:20271018T000000
DTEND;TZID=America/Toronto:20271018T235959
DTSTAMP:20260424T204853
CREATED:20260305T231843Z
LAST-MODIFIED:20260305T231844Z
UID:10000299-1823817600-1823903999@ceiu-seic.ca
SUMMARY:Persons Day
DESCRIPTION:
URL:https://ceiu-seic.ca/event/persons-day/2027-10-18/
CATEGORIES:Significant Date
ATTACH;FMTTYPE=image/png:https://ceiu-seic.ca/wp-content/uploads/2025/12/women-1.png
END:VEVENT
END:VCALENDAR