BEGIN:VCALENDAR
VERSION:2.0
PRODID:-//Canada Employment and Immigration Union - ECPv6.15.20//NONSGML v1.0//EN
CALSCALE:GREGORIAN
METHOD:PUBLISH
X-WR-CALNAME:Canada Employment and Immigration Union
X-ORIGINAL-URL:https://ceiu-seic.ca
X-WR-CALDESC:Events for Canada Employment and Immigration Union
REFRESH-INTERVAL;VALUE=DURATION:PT1H
X-Robots-Tag:noindex
X-PUBLISHED-TTL:PT1H
BEGIN:VTIMEZONE
TZID:America/Toronto
BEGIN:DAYLIGHT
TZOFFSETFROM:-0500
TZOFFSETTO:-0400
TZNAME:EDT
DTSTART:20260308T070000
END:DAYLIGHT
BEGIN:STANDARD
TZOFFSETFROM:-0400
TZOFFSETTO:-0500
TZNAME:EST
DTSTART:20261101T060000
END:STANDARD
BEGIN:DAYLIGHT
TZOFFSETFROM:-0500
TZOFFSETTO:-0400
TZNAME:EDT
DTSTART:20270314T070000
END:DAYLIGHT
BEGIN:STANDARD
TZOFFSETFROM:-0400
TZOFFSETTO:-0500
TZNAME:EST
DTSTART:20271107T060000
END:STANDARD
BEGIN:DAYLIGHT
TZOFFSETFROM:-0500
TZOFFSETTO:-0400
TZNAME:EDT
DTSTART:20280312T070000
END:DAYLIGHT
BEGIN:STANDARD
TZOFFSETFROM:-0400
TZOFFSETTO:-0500
TZNAME:EST
DTSTART:20281105T060000
END:STANDARD
END:VTIMEZONE
BEGIN:VEVENT
DTSTART;TZID=America/Toronto:20270913T000000
DTEND;TZID=America/Toronto:20270919T235959
DTSTAMP:20260418T163706
CREATED:20260305T230601Z
LAST-MODIFIED:20260305T230603Z
UID:10000249-1820793600-1821398399@ceiu-seic.ca
SUMMARY:Consent Awareness Week
DESCRIPTION:
URL:https://ceiu-seic.ca/event/consent-awareness-week/2027-09-13/
CATEGORIES:Significant Date
ATTACH;FMTTYPE=image/png:https://ceiu-seic.ca/wp-content/uploads/2025/12/women-1.png
END:VEVENT
BEGIN:VEVENT
DTSTART;TZID=America/Toronto:20270917T000000
DTEND;TZID=America/Toronto:20270917T235959
DTSTAMP:20260418T163706
CREATED:20260305T230143Z
LAST-MODIFIED:20260305T230145Z
UID:10000239-1821139200-1821225599@ceiu-seic.ca
SUMMARY:Take Back the Night
DESCRIPTION:
URL:https://ceiu-seic.ca/event/take-back-the-night/2027-09-17/
CATEGORIES:Significant Date
ATTACH;FMTTYPE=image/png:https://ceiu-seic.ca/wp-content/uploads/2025/12/women-1.png
END:VEVENT
BEGIN:VEVENT
DTSTART;TZID=America/Toronto:20270920T000000
DTEND;TZID=America/Toronto:20270924T235959
DTSTAMP:20260418T163706
CREATED:20260305T230900Z
LAST-MODIFIED:20260305T230902Z
UID:10000259-1821398400-1821830399@ceiu-seic.ca
SUMMARY:Gender Equality Week
DESCRIPTION:
URL:https://ceiu-seic.ca/event/gender-equality-week/2027-09-20/
CATEGORIES:Significant Date
ATTACH;FMTTYPE=image/png:https://ceiu-seic.ca/wp-content/uploads/2025/12/women-1.png
END:VEVENT
BEGIN:VEVENT
DTSTART;TZID=America/Toronto:20270930T000000
DTEND;TZID=America/Toronto:20270930T235959
DTSTAMP:20260418T163706
CREATED:20260209T164448Z
LAST-MODIFIED:20260303T141455Z
UID:10000152-1822262400-1822348799@ceiu-seic.ca
SUMMARY:National Day for Truth and Reconciliation
DESCRIPTION:
URL:https://ceiu-seic.ca/event/national-day-for-truth-and-reconciliation/2027-09-30/
CATEGORIES:Significant Date
ATTACH;FMTTYPE=image/png:https://ceiu-seic.ca/wp-content/uploads/2026/02/hrrr-logo.png
END:VEVENT
END:VCALENDAR