BEGIN:VCALENDAR
VERSION:2.0
PRODID:-//Canada Employment and Immigration Union - ECPv6.15.20//NONSGML v1.0//EN
CALSCALE:GREGORIAN
METHOD:PUBLISH
X-WR-CALNAME:Canada Employment and Immigration Union
X-ORIGINAL-URL:https://ceiu-seic.ca
X-WR-CALDESC:Events for Canada Employment and Immigration Union
REFRESH-INTERVAL;VALUE=DURATION:PT1H
X-Robots-Tag:noindex
X-PUBLISHED-TTL:PT1H
BEGIN:VTIMEZONE
TZID:America/Toronto
BEGIN:DAYLIGHT
TZOFFSETFROM:-0500
TZOFFSETTO:-0400
TZNAME:EDT
DTSTART:20250309T070000
END:DAYLIGHT
BEGIN:STANDARD
TZOFFSETFROM:-0400
TZOFFSETTO:-0500
TZNAME:EST
DTSTART:20251102T060000
END:STANDARD
BEGIN:DAYLIGHT
TZOFFSETFROM:-0500
TZOFFSETTO:-0400
TZNAME:EDT
DTSTART:20260308T070000
END:DAYLIGHT
BEGIN:STANDARD
TZOFFSETFROM:-0400
TZOFFSETTO:-0500
TZNAME:EST
DTSTART:20261101T060000
END:STANDARD
BEGIN:DAYLIGHT
TZOFFSETFROM:-0500
TZOFFSETTO:-0400
TZNAME:EDT
DTSTART:20270314T070000
END:DAYLIGHT
BEGIN:STANDARD
TZOFFSETFROM:-0400
TZOFFSETTO:-0500
TZNAME:EST
DTSTART:20271107T060000
END:STANDARD
END:VTIMEZONE
BEGIN:VEVENT
DTSTART;TZID=America/Toronto:20260914T000000
DTEND;TZID=America/Toronto:20260918T235959
DTSTAMP:20260418T104637
CREATED:20251217T025005Z
LAST-MODIFIED:20260311T211607Z
UID:10000009-1789344000-1789775999@ceiu-seic.ca
SUMMARY:2026 Triennial CEIU Convention
DESCRIPTION:CEIU’s Triennial Convention will take place in Vancouver\, British Columbia.  \n\n\n\nLearn more about Convention now.
URL:https://ceiu-seic.ca/event/2026-triennial-ceiu-convention/
LOCATION:Vancouver\, British Columbia\, Vancouver\, British Columbia\, Canada
CATEGORIES:Conference
ATTACH;FMTTYPE=image/png:https://ceiu-seic.ca/wp-content/uploads/2024/11/CEIU-Logomark-Digital-RGB-small.png
END:VEVENT
BEGIN:VEVENT
DTSTART;TZID=America/Toronto:20260914T000000
DTEND;TZID=America/Toronto:20260920T235959
DTSTAMP:20260418T104637
CREATED:20260305T230601Z
LAST-MODIFIED:20260305T230603Z
UID:10000248-1789344000-1789948799@ceiu-seic.ca
SUMMARY:Consent Awareness Week
DESCRIPTION:
URL:https://ceiu-seic.ca/event/consent-awareness-week/2026-09-14/
CATEGORIES:Significant Date
ATTACH;FMTTYPE=image/png:https://ceiu-seic.ca/wp-content/uploads/2025/12/women-1.png
END:VEVENT
BEGIN:VEVENT
DTSTART;TZID=America/Toronto:20260918T000000
DTEND;TZID=America/Toronto:20260918T235959
DTSTAMP:20260418T104637
CREATED:20260305T230143Z
LAST-MODIFIED:20260305T230145Z
UID:10000238-1789689600-1789775999@ceiu-seic.ca
SUMMARY:Take Back the Night
DESCRIPTION:
URL:https://ceiu-seic.ca/event/take-back-the-night/2026-09-18/
CATEGORIES:Significant Date
ATTACH;FMTTYPE=image/png:https://ceiu-seic.ca/wp-content/uploads/2025/12/women-1.png
END:VEVENT
BEGIN:VEVENT
DTSTART;TZID=America/Toronto:20260921T000000
DTEND;TZID=America/Toronto:20260925T235959
DTSTAMP:20260418T104637
CREATED:20260305T230900Z
LAST-MODIFIED:20260305T230902Z
UID:10000258-1789948800-1790380799@ceiu-seic.ca
SUMMARY:Gender Equality Week
DESCRIPTION:
URL:https://ceiu-seic.ca/event/gender-equality-week/2026-09-21/
CATEGORIES:Significant Date
ATTACH;FMTTYPE=image/png:https://ceiu-seic.ca/wp-content/uploads/2025/12/women-1.png
END:VEVENT
BEGIN:VEVENT
DTSTART;TZID=America/Toronto:20260930T000000
DTEND;TZID=America/Toronto:20260930T235959
DTSTAMP:20260418T104637
CREATED:20260209T164448Z
LAST-MODIFIED:20260303T141455Z
UID:10000050-1790726400-1790812799@ceiu-seic.ca
SUMMARY:National Day for Truth and Reconciliation
DESCRIPTION:
URL:https://ceiu-seic.ca/event/national-day-for-truth-and-reconciliation/2026-09-30/
CATEGORIES:Significant Date
ATTACH;FMTTYPE=image/png:https://ceiu-seic.ca/wp-content/uploads/2026/02/hrrr-logo.png
END:VEVENT
END:VCALENDAR